BEGIN:VCALENDAR
VERSION:2.0
PRODID:-//eventon.com NONSGML v1.0//EN
CALSCALE:GREGORIAN
METHOD:PUBLISH
BEGIN:VEVENT
UID:69e9f9172e8be
DTSTAMP:20260423T104855Z
DTSTART:20260411T140000Z
DTEND:20260411T160000Z
LOCATION:
SUMMARY:Garden Party
DESCRIPTION:Come join the Mugwort Mob (our group of gardeners)  for our sp
 ring cleanup in Jean's Pollinator Garden.  The best way to work in the gar
 den is alongside a group of volunteers and be treated to a wonderful brunch
 .  Bring a pair of work gloves and a weeding tool.  We will[..]\nhttps://
 www.friendsofwallkillriver.org/events/garden-party/
URL:https://www.friendsofwallkillriver.org/events/garden-party/
END:VEVENT
END:VCALENDAR