BEGIN:VCALENDAR
VERSION:2.0
PRODID:-//eventon.com NONSGML v1.0//EN
CALSCALE:GREGORIAN
METHOD:PUBLISH
BEGIN:VEVENT
UID:69e9f8012ef1b
DTSTAMP:20260423T104417Z
DTSTART:20260411T213000Z
DTEND:20260411T223000Z
LOCATION:
SUMMARY:An Evening of Stories with Ken Karnas
DESCRIPTION:Keeping the oral tradition of storytelling alive\,  Ken Karnas 
 will regale his audience with some favorite tales and new stories.  The st
 ories are suitable for adults and older children\,  especially for those wh
 o cherish nature and the outdoors.  We will meet at the Owens Station pavi
 lion.  Feel free to bring[..]\nhttps://www.friendsofwallkillriver.org/even
 ts/an-evening-of-stories-with-ken-karnas/
URL:https://www.friendsofwallkillriver.org/events/an-evening-of-stories-with-ken-karnas/
END:VEVENT
END:VCALENDAR