BEGIN:VCALENDAR
VERSION:2.0
PRODID:-//eventon.com NONSGML v1.0//EN
CALSCALE:GREGORIAN
METHOD:PUBLISH
BEGIN:VEVENT
UID:69ea2665b0ebd
DTSTAMP:20260423T140213Z
DTSTART:20260422T130000Z
DTEND:20260422T160000Z
LOCATION:
SUMMARY:Earth Day Bird Walk
DESCRIPTION:Join Ken Witkowski for a leisurely walk to look and listen for 
 the returning spring migrants and nesting birds.   The area hosts a variet
 y of songbirds including warblers\,  waterfowl\,  shorebirds\,  raptors\,  
 and more.  Beginners are welcome.  The walk will start from Owens Station
  Crossing and head to Liberty Marsh.[..]\nhttps://www.friendsofwallkillrive
 r.org/events/earth-day-bird-walk/
URL:https://www.friendsofwallkillriver.org/events/earth-day-bird-walk/
END:VEVENT
END:VCALENDAR